BEGIN:VCALENDAR
VERSION:2.0
PRODID:-//All Earth Eco Tours, LLC - ECPv6.15.20//NONSGML v1.0//EN
CALSCALE:GREGORIAN
METHOD:PUBLISH
X-WR-CALNAME:All Earth Eco Tours, LLC
X-ORIGINAL-URL:https://www.allearthtours.com
X-WR-CALDESC:Events for All Earth Eco Tours, LLC
REFRESH-INTERVAL;VALUE=DURATION:PT1H
X-Robots-Tag:noindex
X-PUBLISHED-TTL:PT1H
BEGIN:VTIMEZONE
TZID:UTC
BEGIN:STANDARD
TZOFFSETFROM:+0000
TZOFFSETTO:+0000
TZNAME:UTC
DTSTART:20250101T000000
END:STANDARD
END:VTIMEZONE
BEGIN:VEVENT
DTSTART;TZID=UTC:20260713T100000
DTEND;TZID=UTC:20260716T160000
DTSTAMP:20260422T225002
CREATED:20260114T205348Z
LAST-MODIFIED:20260114T205448Z
UID:18926-1783936800-1784217600@www.allearthtours.com
SUMMARY:An Organic Day Camp for Kids at Backbone Farm
DESCRIPTION:About Farm Camp\nFarm Camp 2026 is a beloved organic day camp for kids\, offered through a partnership with All Earth Eco Tours and the stunningly beautiful Backbone Farm. This very popular and fun program introduces children to the rustic beauty and workings of farm life while instilling a deep appreciation for the natural world. \nThrough hands-on activities and close interactions with nature\, campers leave with lasting memories\, new skills\, and stories they can’t wait to share with their families. This isn’t just observation—kids get dirty\, try new things\, and learn to grow both plants and themselves. \n  \nWhat Campers Will Experience\nOrganic Farming & Gardening\nKids roll up their sleeves and learn what it truly means to be an organic farmer. They discover how to grow vegetables\, understand sustainable farming methods\, and learn about the benefits of humane livestock management. Campers help with planting\, weeding\, harvesting\, and caring for farm animals. \nFarm-to-Table Experiences\nCampers learn to prepare simple\, fresh food using ingredients they help grow and harvest. They gain an appreciation for where their food comes from and the care that goes into producing it sustainably. The week culminates in a special farm-to-table dinner where children lead their families on a tour of the farm. \nSurvival Skills\nChildren learn practical outdoor survival skills including fire building\, shelter construction\, water purification basics\, wilderness navigation\, and foraging safety. These skills build confidence and self-reliance while teaching respect for the natural environment. \nMycology (Mushroom Study)\nCampers go on mushroom hunts and learn to identify different fungi species. They discover the fascinating role mushrooms play in forest ecosystems\, decomposition\, and soil health. This hands-on exploration introduces kids to the hidden world beneath their feet. \nSustainability Education\nThrough daily activities\, children learn about composting\, water conservation\, renewable energy\, waste reduction\, and the interconnectedness of farm ecosystems. They understand how their choices impact the environment and learn practical ways to live more sustainably. \nNature Exploration & Wildlife Discovery\nThe adventure extends beyond the garden beds! Campers spend time playing in the creek\, search for snakes and amphibians\, observe insects\, and explore the diverse ecosystem of the farm and surrounding wilderness. \nHay Ride Farm Tour\nOn the first day\, campers embark on a fun hay ride tour around the entire farm! This exciting introduction allows kids to see all the different areas they’ll be exploring throughout the week\, meet the farm animals\, and get oriented to their new outdoor classroom. It’s the perfect way to kick off an amazing week of adventure. \n“What Does My Farm Look Like?” Brainstorming Activity\nChildren engage in a creative brainstorming activity where they imagine and design their dream farm. What animals would they have? What crops would they grow? How would they set up their fields and gardens? This fun activity encourages creative thinking\, planning skills\, and helps kids understand the many decisions farmers make when designing a sustainable farm. \nArt Projects & Creative Expression\nCreativity is a vital part of Farm Camp! Campers participate in various art projects using natural materials from the farm. They might create nature collages\, paint with plant-based dyes\, make clay sculptures\, or craft with wool and natural fibers. These hands-on art activities allow children to express themselves while connecting more deeply with the natural world around them. Art helps develop fine motor skills\, encourages observation\, and gives kids a meaningful way to process and celebrate their farm experiences. \nFree Play\nUnstructured play time allows children to explore\, create\, and imagine on their own terms. Whether building forts\, playing in the creek\, or inventing games\, free play is essential for creativity\, problem-solving\, and social development. \nMindfulness & Well-Being\nEach day includes yoga sessions and quiet time for journaling. We understand that downtime goes a long way in sustaining a healthy mind and body\, especially for growing kids. \n  \nWhy Outdoor Play & Getting Dirty Matters\nAt Farm Camp\, we believe that the best learning happens when children are actively engaged with the natural world. Scientific research consistently demonstrates that outdoor play and hands-on experiences with nature provide profound benefits for children’s development. \nPhysical Health Benefits\nOutdoor play promotes motor skill development\, increases physical activity\, builds vitamin D levels\, and contributes to stronger bones and a more robust immune system. Research shows children who play outdoors burn more calories and have better cardiovascular health. \nMental & Emotional Well-Being\nTime in nature reduces stress\, anxiety\, and symptoms of ADHD while improving focus\, attention\, and mood. Studies indicate children who spend more time in green spaces show better emotional resilience and lower rates of depression. \nCognitive Development\nPlaying outside promotes curiosity\, creativity\, critical thinking\, and problem-solving skills. Research demonstrates that children who spend time in nature exploration show improved learning outcomes and better academic performance. \nSocial Skills\nOutdoor play helps children develop healthy friendships\, learn cooperation\, practice empathy\, and build confidence. The unstructured nature of outdoor activities allows for natural social interaction and imaginative play. \nThe Benefits of Getting Dirty\nYes\, getting dirty is actually good for kids! Recent microbiome research has revealed that exposure to soil microbes and natural environments helps build stronger\, healthier immune systems. When children interact with dirt and natural environments\, they’re exposed to beneficial bacteria that help their bodies learn to distinguish between harmful pathogens and harmless substances. \nStudies show that children with greater exposure to natural microbes have lower rates of allergies\, asthma\, and autoimmune conditions. The soil bacteria present in farm environments can help develop regulatory T-cells\, which are essential for proper immune function and preventing inflammatory diseases. \nAt Farm Camp\, we embrace this science-based approach. We believe that letting kids get their hands in the soil\, play in the creek\, and interact with farm animals isn’t just fun—it’s an investment in their lifelong health. \n  \nResearch & Resources\nInterested in learning more about why outdoor play\, getting dirty\, and trying new things is so important for children’s development? Here are evidence-based resources: \n\nWhy Outdoor Play Matters – American Academy of Pediatrics on the physical\, mental\, and emotional benefits of outdoor play\nThe Power of Play – How fun and games help children build thriving brains\, bodies\, and social bonds\nIs Playing in the Dirt Good for Kids? – Scientific evidence on how soil microbes strengthen children’s immune systems\n6 Reasons Children Need to Play Outside – Research-backed reasons from Harvard Medical School\nDirt Is Good: Why Kids Need Exposure to Germs – NPR Health on how early exposure to diverse microbes supports lifelong health\nWhy Kids Need to Spend Time in Nature – Child Mind Institute research on nature’s role in strengthening mental well-being\n\n  \nAbout All Earth Eco Tours & Backbone Farm\nWith three decades of experience delivering exceptional eco-tours in the Deep Creek Lake region\, All Earth Eco Tours is founded on empathy and competency. We understand that families need genuine escapes from the pressures of modern life. Each of our programs is designed to lift burdens off your shoulders\, allowing you and your children to dive wholly into the experience. \nOur expert guides handle all the logistics\, promising you a carefree adventure where the only concern is to have fun\, learn\, and feel refreshed. From signature kayak tours to guided hiking and nature exploration\, we specialize in blending relaxation with education in the beautiful wilderness of Garrett County. \nBackbone Farm is an organic farm in Oakland\, Maryland\, dedicated to sustainable agriculture and education. Through our partnership\, we combine decades of eco-tour expertise with authentic farming practices to create an unforgettable experience for young learners. \n  \nRegistration Information\nSpaces for Farm Camp 2026 are limited and this popular program fills up quickly! Give your child the gift of an authentic farm experience where they’ll get wet\, get dirty\, and learn to grow. \nPrice: $475 per child for the full 4-day program (July 13-16)\nFor registration and more information\, visit www.allearthtours.com or contact All Earth Eco Tours directly at 301-746-4083 \nAll Earth Eco Tours | Oakland\, Maryland (Garrett County\, near Deep Creek Lake)\nCreating memories\, growing minds\, and nurturing a love for nature since 1995
URL:https://www.allearthtours.com/event/an-organic-day-camp-for-kids-at-backbone-farm/
END:VEVENT
END:VCALENDAR