BEGIN:VCALENDAR
VERSION:2.0
PRODID:-//All Earth Eco Tours, LLC - ECPv6.15.20//NONSGML v1.0//EN
CALSCALE:GREGORIAN
METHOD:PUBLISH
X-WR-CALNAME:All Earth Eco Tours, LLC
X-ORIGINAL-URL:https://www.allearthtours.com
X-WR-CALDESC:Events for All Earth Eco Tours, LLC
REFRESH-INTERVAL;VALUE=DURATION:PT1H
X-Robots-Tag:noindex
X-PUBLISHED-TTL:PT1H
BEGIN:VTIMEZONE
TZID:UTC
BEGIN:STANDARD
TZOFFSETFROM:+0000
TZOFFSETTO:+0000
TZNAME:UTC
DTSTART:20240101T000000
END:STANDARD
END:VTIMEZONE
BEGIN:VEVENT
DTSTART;TZID=UTC:20250621T130000
DTEND;TZID=UTC:20250621T160000
DTSTAMP:20260423T225416
CREATED:20250325T064903Z
LAST-MODIFIED:20250528T070743Z
UID:17441-1750510800-1750521600@www.allearthtours.com
SUMMARY:Wild Mushroom Walk
DESCRIPTION:Garrett county has many wild\, beautiful\, and scenic areas. The diversity of flora\, fauna\, funga and their ecosystems are special in their own unique way. Fungi has their very own special place within our environment and we have the opportunity to discover all of the great benefits they offer the environment they thrive in and the health benefits the offer us! We will be taking time on this journey to see what mushrooms we can find and collect\, learn about edible species and their toxic and potentially deadly look-a-likes\, and we will discover what mushrooms are best suited for the dinner table and the nutritional value they provide for our health! \n$50 * min of 5 participants… Max 20…
URL:https://www.allearthtours.com/event/wild-mushroom-walk/
LOCATION:Wild Mushroom Walk
ORGANIZER;CN="All Earth Eco Tours%2C LLC":MAILTO:Carol@allearthtours.com
END:VEVENT
BEGIN:VEVENT
DTSTART;TZID=UTC:20250524T130000
DTEND;TZID=UTC:20250524T160000
DTSTAMP:20260423T225416
CREATED:20250325T064704Z
LAST-MODIFIED:20250528T123759Z
UID:17436-1748091600-1748102400@www.allearthtours.com
SUMMARY:Wild Plants "Nature's Garden!"\, walk/ field day
DESCRIPTION:A 3 hour outdoor guided easy hike along Garrett County’s wild and scenic Youghiogheny River! Time will be spent learning how to identify some local native and non-native plants that are full of vitamins and minerals\, better than the best organic salad you can find in any store. Many wild plants have benefits to our health\, and they are 100% free! Join us and find out some of the unique plants we will find on our journey and begin to develop a new passion that is surely rewarding! \n$50 *min of 5 participants… Max 20…
URL:https://www.allearthtours.com/event/wild-plants-natures-garden-walk-field-day/
ORGANIZER;CN="All Earth Eco Tours%2C LLC":MAILTO:Carol@allearthtours.com
END:VEVENT
BEGIN:VEVENT
DTSTART;TZID=UTC:20250515T170000
DTEND;TZID=UTC:20250515T193000
DTSTAMP:20260423T225416
CREATED:20250325T064603Z
LAST-MODIFIED:20250528T070349Z
UID:17435-1747328400-1747337400@www.allearthtours.com
SUMMARY:(Lecture Series) Edible Wild Plants
DESCRIPTION:A classroom session geared towards learning proper identification (ID) techniques for wild plants. We will talk about foraging\, the “weeds” that are welcomed in my garden and why\, nutritional value of wild plants\, and even go over some simple recipes that can turn a wild plant into food for the dinner table. We will also cover recommended books and materials that are helpful for plant ID. During the presentation\, we will go over some of our local easy plants for ID and ways we can test plants for their edibility. \nPen and paper are recommended.
URL:https://www.allearthtours.com/event/lecture-series-edible-wild-plants/
LOCATION:Edible Wild Plants
ORGANIZER;CN="All Earth Eco Tours%2C LLC":MAILTO:Carol@allearthtours.com
END:VEVENT
BEGIN:VEVENT
DTSTART;TZID=UTC:20250503T100000
DTEND;TZID=UTC:20250503T180000
DTSTAMP:20260423T225416
CREATED:20250325T064404Z
LAST-MODIFIED:20250528T070229Z
UID:17432-1746266400-1746295200@www.allearthtours.com
SUMMARY:Private Survival Lesson w/ Josh Lucker
DESCRIPTION:
URL:https://www.allearthtours.com/event/private-survival-lesson-w-josh-lucker/
LOCATION:Private Survival Lesson
ORGANIZER;CN="All Earth Eco Tours%2C LLC":MAILTO:Carol@allearthtours.com
END:VEVENT
BEGIN:VEVENT
DTSTART;TZID=UTC:20250417T170000
DTEND;TZID=UTC:20250417T193000
DTSTAMP:20260423T225416
CREATED:20250325T065821Z
LAST-MODIFIED:20250528T065835Z
UID:17450-1744909200-1744918200@www.allearthtours.com
SUMMARY:(Lecture Series) Fungi Identification & Ediblible Mushrooms
DESCRIPTION:A classroom session geared towards learning the ins and outs of mushroom foraging\, focused on learning certain methods of identification for edible species and also\, the deadly toxic look-a-likes\, learning what gear is right and how having the right gear allows for a more enjoyable foraging experience\, and other fun facts that opens up a whole new world to those that are new to mushrooms and foraging. Class will also be a nice refresher for those that have just begun to learn about Fungi and the amazing benefits they have to offer! Foraging for mushrooms is a great opportunity to experience nature in a different way. From our health to our happiness\,  mushrooms are rewarding in so many ways!
URL:https://www.allearthtours.com/event/lecture-series-fungi-identification-ediblible-mushrooms/
LOCATION:(Lecture Series) Guest Speaker Needed!
ORGANIZER;CN="All Earth Eco Tours%2C LLC":MAILTO:Carol@allearthtours.com
END:VEVENT
BEGIN:VEVENT
DTSTART;TZID=UTC:20250412T130000
DTEND;TZID=UTC:20250412T170000
DTSTAMP:20260423T225416
CREATED:20250528T065308Z
LAST-MODIFIED:20250528T065703Z
UID:17882-1744462800-1744477200@www.allearthtours.com
SUMMARY:Basic/ Intro to Wilderness Survival/ Always Ready Preparedness Field Day
DESCRIPTION:A 4 hour program geared towards the roots of Wilderness Survival! Come and join us as we learn about the sacred order of survival. We will cover shelter construction\, different methods of water collection and filtration\, fire craft\, tools and materials recommended for wilderness survival\, wild food collection and also learn about an ancient food that you can make at home that is known to be one of the greatest survival foods. This class equips you with the essential skills necessary to survive an emergency scenario. \nClass is for ages 13 and up.\nPersons under 18 needs adult present. \n$125 *min. of 5 participants
URL:https://www.allearthtours.com/event/basic-intro-to-wilderness-survival-always-ready-preparedness-field-day/
LOCATION:Gourmet Mushroom Cultivation Class
ORGANIZER;CN="All Earth Eco Tours%2C LLC":MAILTO:Carol@allearthtours.com
END:VEVENT
END:VCALENDAR