BEGIN:VCALENDAR
VERSION:2.0
PRODID:-//All Earth Eco Tours, LLC - ECPv6.15.20//NONSGML v1.0//EN
CALSCALE:GREGORIAN
METHOD:PUBLISH
X-WR-CALNAME:All Earth Eco Tours, LLC
X-ORIGINAL-URL:https://www.allearthtours.com
X-WR-CALDESC:Events for All Earth Eco Tours, LLC
REFRESH-INTERVAL;VALUE=DURATION:PT1H
X-Robots-Tag:noindex
X-PUBLISHED-TTL:PT1H
BEGIN:VTIMEZONE
TZID:UTC
BEGIN:STANDARD
TZOFFSETFROM:+0000
TZOFFSETTO:+0000
TZNAME:UTC
DTSTART:20240101T000000
END:STANDARD
END:VTIMEZONE
BEGIN:VEVENT
DTSTART;TZID=UTC:20251004T130000
DTEND;TZID=UTC:20251004T153000
DTSTAMP:20260423T092741
CREATED:20250325T070022Z
LAST-MODIFIED:20250918T165208Z
UID:17453-1759582800-1759591800@www.allearthtours.com
SUMMARY:Gourmet Mushroom Cultivation Class
DESCRIPTION:Grow Your Own Gourmet Mushrooms: Sustainable Cultivation Workshop\nJoin All Earth Eco Tours for an immersive hands-on experience in sustainable gourmet mushroom cultivation \nLocation: Friendsville Community Park | Duration: 1-3:30pm | Skill Level: Beginner to Intermediate \n \n\nLearn Professional Mushroom Growing Techniques\nAre you ready to discover the fascinating world of gourmet mushroom cultivation? Our comprehensive workshop teaches you how to grow premium mushrooms using sustainable\, eco-friendly methods that help you grow gourmet\, nutritious food. \nWhat You’ll Learn in This Gourmet Mushroom Workshop:\nFoundation of Mushroom Cultivation\n\nUnderstanding fungal biology and mushroom life cycles\nIdentifying the best gourmet mushroom varieties for home cultivation\nSustainable substrate preparation\nSterile cultivation techniques for maximum yield\nSetting up optimal growing environments (temperature\, humidity\, lighting)\n\n\nHands-On Growing Experience \n\nCreating your own mushroom growing kits to take home\nInoculation techniques for different mushroom species\nLog cultivation methods for outdoor growing\nHarvesting and storage best practices\nTroubleshooting common cultivation challenges\n\nFeatured Gourmet Mushroom Variety\nOyster Mushrooms (Pleurotus ostreatus)\nPerfect for beginners\, these fast-growing mushrooms thrive on various organic substrates and offer excellent nutritional value with their delicate\, savory flavor. \nSustainability Focus: Zero-Waste Mushroom Farming\nOur workshop emphasizes environmentally responsible growing methods that align with All Earth Eco Tours’ commitment to sustainable agriculture. You’ll learn how professional mushroom cultivators create sustainable farms by: \n\nOrganic Waste Recycling: Transform coffee grounds\, straw\, sawdust\, and agricultural by-products into productive growing substrates.\nCarbon Footprint Reduction: Understand how mushroom farming can actually improve soil health and sequester carbon.\nCircular Agriculture: Learn how spent mushroom substrate becomes excellent compost for other crops.\n\nWorkshop Includes:\n✅ Complete Growing Kit: Take home everything needed to start growing immediately\n✅ Expert Instruction: Learn from mushroom cultivation specialists\n✅ Resource Library: Digital access to cultivation guides and troubleshooting materials\n✅ Follow-up Support: 30-day email support for your growing questions \nPerfect For:\n\nHome Gardening Enthusiasts looking to expand into mushroom cultivation\nSustainable Living Advocates interested in zero-waste food production\nCulinary Professionals wanting to grow their own gourmet ingredients\nSmall Business Entrepreneurs exploring mushroom farming opportunities\nEnvironmental Educators seeking hands-on sustainability knowledge\nAnyone Interested in growing their own organic\, nutritious food\n\nWorkshop Schedule & Pricing\nDate: September 13th Saturday\nTime: 1:00 -3:30 PM\nInvestment: $40 per person (includes all materials) \nLocation & What to Bring\nFriendsville Community Park\n947 Community Drive\nFriendsville\, Maryland 21531 \nWhat to Bring: \n\nNotebook for taking notes\nWater bottle and snacks if desired\nCamera for documenting your learning experience\n\nExpert Instructors\nOur workshop is led by Outdoor Education expert\, Chris Hull an avid mushroom cultivation specialist with over 15 years of experience in sustainable growing methods. Learn from a professional who has successfully established multiple mushroom operations and understands both the science and art of cultivation. \nHealth & Safety\nAll workshop activities follow organic certification standards and food safety protocols. We provide all necessary safety equipment and ensure a clean\, professional learning environment. \nRegister Now – Limited Spots Available\nSecure your spot today! Our workshops consistently sell out due to high demand and small class sizes that ensure personalized attention. \n\nPhone: (301) 746-4083\n\nFrequently Asked Questions\nQ: Do I need prior experience growing mushrooms?\nA: No experience necessary! Our workshop is designed for complete beginners while offering advanced techniques for experienced growers. \nQ: Can I grow mushrooms year-round?\nA: Yes! We’ll show you how to create controlled environments for consistent year-round production. \nQ: How long before I can harvest my first mushrooms?\nA: Depending on the variety\, you can expect to harvest your first mushrooms 1-3 weeks after inoculation. \nQ: Is this suitable for children?\nA: Children 12+ are welcome when accompanied by an adult. The workshop involves safe\, hands-on learning perfect for family participation. \nLearn More: Expert Resources\nTo prepare for your workshop experience\, explore these authoritative resources on gourmet mushroom cultivation: \n\nGrowing Gourmet and Medicinal Mushrooms – Fungi Perfecti – Paul Stamets’ comprehensive guide\nBBC Gardeners World: How to Grow Mushrooms – Essential growing techniques\nHome Mushroom Cultivation Course – Milkwood – Sustainable cultivation methods\nSustainable Mushroom Farming Practices – Eco-friendly techniques\nMasterClass: How to Grow Mushrooms at Home – Beginner-friendly overview\n\nBeyond the Workshop: Continued Learning\nFollow-Up Sessions: Advanced workshops covering specialized techniques like wine cap cultivation and outdoor mushroom gardens \nCommunity Support: Join our private online community of mushroom growers for ongoing support and knowledge sharing \nSeasonal Programs: Participate in our spring and fall mushroom foraging expeditions to learn about wild mushroom identification \n\nBook Your Sustainable Mushroom Growing Adventure Today\nDon’t miss this opportunity to learn sustainable food production while enjoying a hands-on educational experience in beautiful Friendsville\, Maryland. Whether you’re interested in growing mushrooms for personal consumption\, exploring small-scale farming\, or simply learning more about sustainable agriculture\, this workshop provides the knowledge and confidence you need to succeed. \nReserve your spot now and start your journey into the fascinating world of gourmet mushroom cultivation! \n\nAll Earth Eco Tours is committed to sustainable education and environmental stewardship. Our mushroom cultivation workshop supports local food systems\, reduces waste\, and promotes eco-friendly growing practices that benefit both people and planet.
URL:https://www.allearthtours.com/event/gourmet-mushroom-cultivation-class-2/
LOCATION:Gourmet Mushroom Cultivation Class
ORGANIZER;CN="All Earth Eco Tours%2C LLC":MAILTO:Carol@allearthtours.com
END:VEVENT
END:VCALENDAR